BEGIN:VCALENDAR
VERSION:2.0
BEGIN:VEVENT
CLASS:PUBLIC
DESCRIPTION:Innovation & collaboration in HIV care\nDate and Time - Apr 24\, 2025 6:00 PM to 10:30 PM\nVenue -  Van der Valk Hotel (Gent)\n
DTSTART:20250424T160000Z
DTEND:20250424T203000Z
LOCATION: Van der Valk Hotel (Gent)
SUMMARY;LANGUAGE=en-us:Innovation & collaboration in HIV care
END:VEVENT
END:VCALENDAR